BEGIN:VCALENDAR
VERSION:2.0
PRODID:-//wp-events-plugin.com//7.2.3.1//EN
BEGIN:VEVENT
UID:61@semanasanta.aytobadajoz.es
DTSTART;TZID=Europe/Madrid:20240322T104500
DTEND;TZID=Europe/Madrid:20240322T120000
DTSTAMP:20240320T101115Z
URL:https://semanasanta.aytobadajoz.es/eventos/desfile-de-mantillas/
SUMMARY:Desfile de mantillas
DESCRIPTION:Desfile de mantillas en el patio del Museo Luis de Morales\, or
 ganizado por el Área de Atención al Mayor del IMSS\, con la colaboració
 n del Museo Luis de Morales y la Concejalía de Cultura.
ATTACH;FMTTYPE=image/jpeg:https://semanasanta.aytobadajoz.es/wp-content/up
 loads/2024/03/Ayuntamiento_Badajoz_Semana_Santa_2024_desfile_mantilla.jpg
LOCATION:Museo de la Ciudad "Luis de Morales"\, Plaza de Santa María s/n\,
  Badajoz\, Badajoz\, 06001\, Extremadura\, España
GEO:38.880983;-6.969241
X-APPLE-STRUCTURED-LOCATION;VALUE=URI;X-ADDRESS=Plaza de Santa María s/n\,
  Badajoz\, Badajoz\, 06001\, Extremadura\, España;X-APPLE-RADIUS=100;X-TI
 TLE=Museo de la Ciudad \"Luis de Morales\":geo:38.880983,-6.969241
END:VEVENT
BEGIN:VTIMEZONE
TZID:Europe/Madrid
X-LIC-LOCATION:Europe/Madrid
BEGIN:STANDARD
DTSTART:20231029T020000
TZOFFSETFROM:+0200
TZOFFSETTO:+0100
TZNAME:CET
END:STANDARD
END:VTIMEZONE
END:VCALENDAR