BEGIN:VCALENDAR
VERSION:2.0
PRODID:-//wp-events-plugin.com//7.2.3.1//EN
BEGIN:VEVENT
UID:44@semanasanta.aytobadajoz.es
DTSTART;TZID=Europe/Madrid:20240323T200000
DTEND;TZID=Europe/Madrid:20240323T233000
DTSTAMP:20240323T102751Z
URL:https://semanasanta.aytobadajoz.es/eventos/procesion-del-dulce-nombre-
 de-maria/
SUMMARY:Procesión del Dulce Nombre de María
DESCRIPTION:\n\nHermandad de Jesús Obrero y Nuestra Señora del Dulce Nomb
 re de María\n\nLa Hermandad se funda en el 2012 en el popular barrio del 
 Cerro de Reyes. En un principio la Hermandad únicamente contaba con la im
 agen de gloria de Jesús Obrero y cuya advocación da nombre a la parroqui
 a\n\nLa Hermandad siempre está inmersa en actividades y obras sociales qu
 e mejoren o ayuden a las personas más desfavorecidas de su barrio.\n\nLa 
 Parroquia siempre estará vinculada con la tragedia sucedida en Badajoz en
  1997\, cuando una riada produjo víctimas mortales y cientos de damnifica
 dos\, la mayoría de ellas vecinos del barrio.\n\nUno de los mayores acont
 ecimientos en su corta historia y que siempre le acompañará\, se produjo
  en el año 2012\, cuando por primera vez recibió la visita de la Nuestra
  Señora de la Soledad (patrona de Badajoz) con motivo de su coronación c
 anónica.\n\nJesús Obrero salió a su encuentro en una parihuela cedida p
 or el Cristo de la Paz\, junto a miles de personas\, para recibirla y acom
 pañarla por el barrio hasta la parroquia de Jesús Obrero\, donde se real
 izaron numerosos actos.\n\nTras esta visita\, Manuel Malagón\, párroco d
 e Jesús Obrero\, se propuso y de la mano de varios vecinos\, crear una He
 rmandad para su barrio que durante años estaba demandando.\n\nEl objetivo
  principal de la hermandad es poder procesionar y realizar estación de pe
 nitencia a la S.I. Catedral Metropolitana de Badajoz en la Semana Santa. H
 asta entonces procesiona el Sábado de Pasión.\n\nEl domingo 6 de noviemb
 re de 2022 y con motivo del 25º aniversario de la riada\, La Virgen del D
 ulce Nombre de María\, realizó una salida extraordinaria hasta el pico d
 e los tres arroyos.\n\nHermano Mayor: Antonio Trinidad García\n\nNúmero 
 de hermanos : 200\nPasos\nNtra. Sra. Del Dulce Nombre De María\nTalla rea
 lizada en madera de cedro por el imaginero Adrián Valverde Cantero de Cab
 ra\, Córdoba. En diciembre de 2014 se encarga la imagen y es bendecida el
  9 de mayo de 2015.\n\nLa Virgen es una obra de gran belleza que transmite
  un profundo dolor a través de sus ojos color miel y su tez morena llena 
 de amor y ternura.\n\nLa imagen fue apadrinada por el Batallón de Zapador
 es de la Brigada XI de Extremadura por su labor en la riada de 1997 y conc
 edió a la Virgen la Cruz de la Real y Militar Orden de San Hermenegildo.\
 n\nEn el año 2018 realiza su primera salida procesional el sábado de pas
 ión por las calles de su barrio. Con un paso cedido por la Asociación de
  María Auxiliadora\, discurre con gran fervor\, alegría y recogimiento p
 or miles de personas.\n\nEn 2016 se encarga un manto para la Virgen a Javi
 er Tomás Cabrera del Taller Bordado y Costura Virgen de los Dolores Casal
 \, de tela brocada\, en rojo y oro\, con los dos escudos de la Hermandad b
 ordados en hilo de oro. En 2017 se bendice el manto y en su segunda salida
  procesional de 2019 lo estrena causando gran impresión y felicidad entre
  sus feligreses. Poco a poco la Hermandad sigue enriqueciendo sus enseres 
 para formar un buen cortejo.\n\n 	Costaleros: Cuadrilla de 24 Costaleros\n
  	Capataz: Juan Carlos García Romero\n 	Acompañamiento musical: Banda de
  Música Guzmán Ricis de Barcarrota\n\nRecorrido\n\n 	Salida Parroquia Je
 sús Obrero (20:00 horas).\n 	C/ Alemania.\n 	Rotonda de las Grullas.\n 	A
 vda. Pablo Neruda.\n 	C/ Federico Garcia Lorca.\n 	C/ Albuera\n 	C/ Marque
  de Casa de Cagigal\n 	C/ Otumba\n 	C/ San Vicente de Paul\n 	C/ La Albuer
 a\n 	C/ Federico Garcia Lorca\n 	Avda. Pablo Neruda\n 	Rotonda de las Grul
 las\n 	Recogida en la Parroquia de Jesús Obrero\n\nRincones con encanto\n
 Todos los años cambia su recorrido para visitar a todos sus vecinos\, un 
 año la Virgen recorre las calles del barrio viejo y al año siguiente las
  calles del barrio nuevo.\n\nLa salida y la entrada entrañan gran dificul
 tad al tener menos altura que el paso de la Virgen.\n\nSu discurrir por la
  rotonda de las grullas\, unos de los símbolos del barrio\, le aportan un
  reencuentro compartido entre su gente\, pues separa el barrio en dos\, la
  parte antigua y la nueva.
ATTACH;FMTTYPE=image/jpeg:https://semanasanta.aytobadajoz.es/wp-content/up
 loads/2024/03/Ayuntamiento_Badajoz_Semana_Santa_2024_Dulce_Nombre_de_Maria
 .jpg
LOCATION:Parroquia de Jesús Obrero\, C. Alemania\, s/n\, Badajoz\, Badajoz
 \, 06010\, Extremadura\, España
GEO:38.865213;-6.960803
X-APPLE-STRUCTURED-LOCATION;VALUE=URI;X-ADDRESS=C. Alemania\, s/n\, Badajoz
 \, Badajoz\, 06010\, Extremadura\, España;X-APPLE-RADIUS=100;X-TITLE=Parr
 oquia de Jesús Obrero:geo:38.865213,-6.960803
END:VEVENT
BEGIN:VTIMEZONE
TZID:Europe/Madrid
X-LIC-LOCATION:Europe/Madrid
BEGIN:STANDARD
DTSTART:20231029T020000
TZOFFSETFROM:+0200
TZOFFSETTO:+0100
TZNAME:CET
END:STANDARD
END:VTIMEZONE
END:VCALENDAR